BEGIN:VCALENDAR
VERSION:2.0
PRODID:-//OŠ Prežihovega Voranca - ECPv6.15.11//NONSGML v1.0//EN
CALSCALE:GREGORIAN
METHOD:PUBLISH
X-ORIGINAL-URL:https://www.voranc.si
X-WR-CALDESC:Dogodki za OŠ Prežihovega Voranca
REFRESH-INTERVAL;VALUE=DURATION:PT1H
X-Robots-Tag:noindex
X-PUBLISHED-TTL:PT1H
BEGIN:VTIMEZONE
TZID:Europe/Ljubljana
BEGIN:DAYLIGHT
TZOFFSETFROM:+0100
TZOFFSETTO:+0200
TZNAME:CEST
DTSTART:20210328T010000
END:DAYLIGHT
BEGIN:STANDARD
TZOFFSETFROM:+0200
TZOFFSETTO:+0100
TZNAME:CET
DTSTART:20211031T010000
END:STANDARD
BEGIN:DAYLIGHT
TZOFFSETFROM:+0100
TZOFFSETTO:+0200
TZNAME:CEST
DTSTART:20220327T010000
END:DAYLIGHT
BEGIN:STANDARD
TZOFFSETFROM:+0200
TZOFFSETTO:+0100
TZNAME:CET
DTSTART:20221030T010000
END:STANDARD
BEGIN:DAYLIGHT
TZOFFSETFROM:+0100
TZOFFSETTO:+0200
TZNAME:CEST
DTSTART:20230326T010000
END:DAYLIGHT
BEGIN:STANDARD
TZOFFSETFROM:+0200
TZOFFSETTO:+0100
TZNAME:CET
DTSTART:20231029T010000
END:STANDARD
END:VTIMEZONE
BEGIN:VEVENT
DTSTART;TZID=Europe/Ljubljana:20220506T100000
DTEND;TZID=Europe/Ljubljana:20220506T133500
DTSTAMP:20260423T151756
CREATED:20220503T123249Z
LAST-MODIFIED:20220503T123249Z
UID:5534-1651831200-1651844100@www.voranc.si
SUMMARY:Pot ob žici (2.-9. razred)
DESCRIPTION:V petek\, 6. 5. 2022\, bomo odšli na tradicionalni rekreativni pohod Pot ob žici. Prireditev bo potekala v vsakršnem vremenu\, zato se temu primerno tudi obujte in oblecite. V nahrbtnik dajte poleg malice še dežnik in vetrovko\, ter rezervno majico. \n\n\n\nPrihod v šolo in prevzem malice je ob 9.30 v matičnih razredih. Odhod na pot je ob 10.00. \n\n\n\nTRASA NAŠE POTI: Iz šole se odpravimo v Tivoli\, čez Šišenski hrib do Mosteca in naprej do Koseškega bajerja\, kjer se priključimo na Pot spominov in tovarištva. Nadaljujemo proti Viču\, kjer se pri Biotehniškem centru pričnemo vračati proti šoli v smeri Rožnika. Vrnemo se na kosilo nekje do 13.35.
URL:https://www.voranc.si/event/pot-ob-zici-2-9-razred/
CATEGORIES:Športni dogodek,Vsi dogodki
END:VEVENT
END:VCALENDAR